BEGIN:VCALENDAR
VERSION:2.0
PRODID:-//Heilige-Geist-Gemeinde Moabit - ECPv6.15.20//NONSGML v1.0//EN
CALSCALE:GREGORIAN
METHOD:PUBLISH
X-WR-CALNAME:Heilige-Geist-Gemeinde Moabit
X-ORIGINAL-URL:https://www.heilige-geist-gemeinde.de
X-WR-CALDESC:Veranstaltungen für Heilige-Geist-Gemeinde Moabit
REFRESH-INTERVAL;VALUE=DURATION:PT1H
X-Robots-Tag:noindex
X-PUBLISHED-TTL:PT1H
BEGIN:VTIMEZONE
TZID:Europe/Berlin
BEGIN:DAYLIGHT
TZOFFSETFROM:+0100
TZOFFSETTO:+0200
TZNAME:CEST
DTSTART:20250330T010000
END:DAYLIGHT
BEGIN:STANDARD
TZOFFSETFROM:+0200
TZOFFSETTO:+0100
TZNAME:CET
DTSTART:20251026T010000
END:STANDARD
BEGIN:DAYLIGHT
TZOFFSETFROM:+0100
TZOFFSETTO:+0200
TZNAME:CEST
DTSTART:20260329T010000
END:DAYLIGHT
BEGIN:STANDARD
TZOFFSETFROM:+0200
TZOFFSETTO:+0100
TZNAME:CET
DTSTART:20261025T010000
END:STANDARD
BEGIN:DAYLIGHT
TZOFFSETFROM:+0100
TZOFFSETTO:+0200
TZNAME:CEST
DTSTART:20270328T010000
END:DAYLIGHT
BEGIN:STANDARD
TZOFFSETFROM:+0200
TZOFFSETTO:+0100
TZNAME:CET
DTSTART:20271031T010000
END:STANDARD
END:VTIMEZONE
BEGIN:VEVENT
DTSTART;TZID=Europe/Berlin:20260911T190000
DTEND;TZID=Europe/Berlin:20260911T233000
DTSTAMP:20260420T181054
CREATED:20260420T064559Z
LAST-MODIFIED:20260420T064559Z
UID:10001303-1789153200-1789169400@www.heilige-geist-gemeinde.de
SUMMARY:Kiezsalon w/ Harry Gorski-Brown\, Balladeste and Tristan Perich
DESCRIPTION:This September\, the Kiezsalon visits Moabit’s gothic Heilige-Geist-Kirche for the first time. Here we present the debut of Glasgow-based bagpipe player Harry Gorski-Brown\, London-based string duo Balladeste\, and NYC composer Tristan Perich\, who will activate the church’s organ. \n\nTickets sind im Vorverkauf unter der nebenstehenden Webadresse erhältlich.
URL:https://www.heilige-geist-gemeinde.de/veranstaltung/kiezsalon-w-harry-gorski-brown-balladeste-and-tristan-perich/
LOCATION:Heilige-Geist-Kirche
CATEGORIES:Erwachsene,Musik,Zeitgenössische Kunst
ATTACH;FMTTYPE=image/jpeg:https://www.heilige-geist-gemeinde.de/wp-content/uploads/2026/04/Balladeste_by_RebeccaCleal-e1775058794661-1160x680-1.jpg
END:VEVENT
END:VCALENDAR