BEGIN:VCALENDAR
VERSION:2.0
PRODID:-//Heilige-Geist-Gemeinde Moabit - ECPv6.15.20//NONSGML v1.0//EN
CALSCALE:GREGORIAN
METHOD:PUBLISH
X-ORIGINAL-URL:https://www.heilige-geist-gemeinde.de
X-WR-CALDESC:Veranstaltungen für Heilige-Geist-Gemeinde Moabit
REFRESH-INTERVAL;VALUE=DURATION:PT1H
X-Robots-Tag:noindex
X-PUBLISHED-TTL:PT1H
BEGIN:VTIMEZONE
TZID:Europe/Berlin
BEGIN:DAYLIGHT
TZOFFSETFROM:+0100
TZOFFSETTO:+0200
TZNAME:CEST
DTSTART:20220327T010000
END:DAYLIGHT
BEGIN:STANDARD
TZOFFSETFROM:+0200
TZOFFSETTO:+0100
TZNAME:CET
DTSTART:20221030T010000
END:STANDARD
BEGIN:DAYLIGHT
TZOFFSETFROM:+0100
TZOFFSETTO:+0200
TZNAME:CEST
DTSTART:20230326T010000
END:DAYLIGHT
BEGIN:STANDARD
TZOFFSETFROM:+0200
TZOFFSETTO:+0100
TZNAME:CET
DTSTART:20231029T010000
END:STANDARD
BEGIN:DAYLIGHT
TZOFFSETFROM:+0100
TZOFFSETTO:+0200
TZNAME:CEST
DTSTART:20240331T010000
END:DAYLIGHT
BEGIN:STANDARD
TZOFFSETFROM:+0200
TZOFFSETTO:+0100
TZNAME:CET
DTSTART:20241027T010000
END:STANDARD
END:VTIMEZONE
BEGIN:VEVENT
DTSTART;TZID=Europe/Berlin:20230615T150000
DTEND;TZID=Europe/Berlin:20230615T180000
DTSTAMP:20260422T115630
CREATED:20230515T094010Z
LAST-MODIFIED:20231207T111955Z
UID:10000093-1686841200-1686852000@www.heilige-geist-gemeinde.de
SUMMARY:"Offene Kirche am Donnerstagnachmittag"
DESCRIPTION:Herzlich willkommen. Unsere Kirche hat jeden Donnerstagnachmittag geöffnet. \nSie sind/Ihr seid eingeladen zur Besichtigung\, zum Beten\, zum Genießen der Stille. \nUnser Kirchenöffnerteam steht Ihnen/Euch bei Bedarf für Fragen und ein Gespräch zur Verfügung. Von 17.30 bis 18.00 Uhr erklingt die Walcker-Orgel.
URL:https://www.heilige-geist-gemeinde.de/veranstaltung/offene-kirche-am-donnerstagnachmittag-2/2023-06-15/
LOCATION:Heilige-Geist-Kirche
CATEGORIES:Community,Erwachsene,Jugend,Kinder,Musik,Senioren
ATTACH;FMTTYPE=image/jpeg:https://www.heilige-geist-gemeinde.de/wp-content/uploads/2018/10/DSC_5823-Bearbeitet-e1698154187133.jpg
END:VEVENT
BEGIN:VEVENT
DTSTART;TZID=Europe/Berlin:20230615T150000
DTEND;TZID=Europe/Berlin:20230615T180000
DTSTAMP:20260422T115630
CREATED:20240229T155913Z
LAST-MODIFIED:20240229T155913Z
UID:10000122-1686841200-1686852000@www.heilige-geist-gemeinde.de
SUMMARY:"Offene Kirche am Donnerstagnachmittag"
DESCRIPTION:Herzlich willkommen. Unsere Kirche hat jeden Donnerstagnachmittag geöffnet. \nSie sind/Ihr seid eingeladen zur Besichtigung\, zum Beten\, zum Genießen der Stille. \nUnser Kirchenöffnerteam steht Ihnen/Euch bei Bedarf für Fragen und ein Gespräch zur Verfügung. Von 17.30 bis 18.00 Uhr erklingt die Walcker-Orgel.
URL:https://www.heilige-geist-gemeinde.de/veranstaltung/offene-kirche-am-donnerstagnachmittag-2/2023-06-15/
LOCATION:Heilige-Geist-Kirche
CATEGORIES:Community,Erwachsene,Jugend,Kinder,Musik,Senioren
ATTACH;FMTTYPE=image/jpeg:https://www.heilige-geist-gemeinde.de/wp-content/uploads/2018/10/DSC_5823-Bearbeitet-e1698154187133.jpg
END:VEVENT
END:VCALENDAR