BEGIN:VCALENDAR
VERSION:2.0
PRODID:-//Heilige-Geist-Gemeinde Moabit - ECPv6.15.20//NONSGML v1.0//EN
CALSCALE:GREGORIAN
METHOD:PUBLISH
X-WR-CALNAME:Heilige-Geist-Gemeinde Moabit
X-ORIGINAL-URL:https://www.heilige-geist-gemeinde.de
X-WR-CALDESC:Veranstaltungen für Heilige-Geist-Gemeinde Moabit
REFRESH-INTERVAL;VALUE=DURATION:PT1H
X-Robots-Tag:noindex
X-PUBLISHED-TTL:PT1H
BEGIN:VTIMEZONE
TZID:Europe/Berlin
BEGIN:DAYLIGHT
TZOFFSETFROM:+0100
TZOFFSETTO:+0200
TZNAME:CEST
DTSTART:20250330T010000
END:DAYLIGHT
BEGIN:STANDARD
TZOFFSETFROM:+0200
TZOFFSETTO:+0100
TZNAME:CET
DTSTART:20251026T010000
END:STANDARD
BEGIN:DAYLIGHT
TZOFFSETFROM:+0100
TZOFFSETTO:+0200
TZNAME:CEST
DTSTART:20260329T010000
END:DAYLIGHT
BEGIN:STANDARD
TZOFFSETFROM:+0200
TZOFFSETTO:+0100
TZNAME:CET
DTSTART:20261025T010000
END:STANDARD
BEGIN:DAYLIGHT
TZOFFSETFROM:+0100
TZOFFSETTO:+0200
TZNAME:CEST
DTSTART:20270328T010000
END:DAYLIGHT
BEGIN:STANDARD
TZOFFSETFROM:+0200
TZOFFSETTO:+0100
TZNAME:CET
DTSTART:20271031T010000
END:STANDARD
END:VTIMEZONE
BEGIN:VEVENT
DTSTART;TZID=Europe/Berlin:20260425T183000
DTEND;TZID=Europe/Berlin:20260425T200000
DTSTAMP:20260425T014614
CREATED:20260410T062354Z
LAST-MODIFIED:20260410T062354Z
UID:10001302-1777141800-1777147200@www.heilige-geist-gemeinde.de
SUMMARY:Together In Tune - Doppelchorkonzert
DESCRIPTION:Am 25. April trifft der Hamburger Chor „Schall & Hauch“ auf die “ Nordberliner Chorgemeinschaft“. In einem Doppelchorkonzert präsentieren die beiden befreundeten Chöre ein gemischtes Programm von Klassik über Volkslied bis Popmusik. Freuen Sie sich auf ein abwechslungsreiches und kurzweiliges Konzert in der Heilige-Geist-Kirche. \nSchall & Hauch \nLeitung: Christiane Strenge \nNordberliner Chorgemeinschaft e.V. \nLeitung: Anton Rotter
URL:https://www.heilige-geist-gemeinde.de/veranstaltung/together-in-tune-doppelchorkonzert/
LOCATION:Heilige-Geist-Kirche
CATEGORIES:Musik
ATTACH;FMTTYPE=image/jpeg:https://www.heilige-geist-gemeinde.de/wp-content/uploads/2026/04/WhatsApp-Image-2026-04-10-at-08.21.39.jpeg
END:VEVENT
END:VCALENDAR