BEGIN:VCALENDAR
VERSION:2.0
PRODID:-//Heilige-Geist-Gemeinde Moabit - ECPv6.15.20//NONSGML v1.0//EN
CALSCALE:GREGORIAN
METHOD:PUBLISH
X-ORIGINAL-URL:https://www.heilige-geist-gemeinde.de
X-WR-CALDESC:Veranstaltungen für Heilige-Geist-Gemeinde Moabit
REFRESH-INTERVAL;VALUE=DURATION:PT1H
X-Robots-Tag:noindex
X-PUBLISHED-TTL:PT1H
BEGIN:VTIMEZONE
TZID:Europe/Berlin
BEGIN:DAYLIGHT
TZOFFSETFROM:+0100
TZOFFSETTO:+0200
TZNAME:CEST
DTSTART:20220327T010000
END:DAYLIGHT
BEGIN:STANDARD
TZOFFSETFROM:+0200
TZOFFSETTO:+0100
TZNAME:CET
DTSTART:20221030T010000
END:STANDARD
BEGIN:DAYLIGHT
TZOFFSETFROM:+0100
TZOFFSETTO:+0200
TZNAME:CEST
DTSTART:20230326T010000
END:DAYLIGHT
BEGIN:STANDARD
TZOFFSETFROM:+0200
TZOFFSETTO:+0100
TZNAME:CET
DTSTART:20231029T010000
END:STANDARD
BEGIN:DAYLIGHT
TZOFFSETFROM:+0100
TZOFFSETTO:+0200
TZNAME:CEST
DTSTART:20240331T010000
END:DAYLIGHT
BEGIN:STANDARD
TZOFFSETFROM:+0200
TZOFFSETTO:+0100
TZNAME:CET
DTSTART:20241027T010000
END:STANDARD
BEGIN:DAYLIGHT
TZOFFSETFROM:+0100
TZOFFSETTO:+0200
TZNAME:CEST
DTSTART:20250330T010000
END:DAYLIGHT
BEGIN:STANDARD
TZOFFSETFROM:+0200
TZOFFSETTO:+0100
TZNAME:CET
DTSTART:20251026T010000
END:STANDARD
BEGIN:DAYLIGHT
TZOFFSETFROM:+0100
TZOFFSETTO:+0200
TZNAME:CEST
DTSTART:20260329T010000
END:DAYLIGHT
BEGIN:STANDARD
TZOFFSETFROM:+0200
TZOFFSETTO:+0100
TZNAME:CET
DTSTART:20261025T010000
END:STANDARD
END:VTIMEZONE
BEGIN:VEVENT
DTSTART;TZID=Europe/Berlin:20250409T190000
DTEND;TZID=Europe/Berlin:20250409T203000
DTSTAMP:20260421T111435
CREATED:20250310T203923Z
LAST-MODIFIED:20250310T205818Z
UID:10000701-1744225200-1744230600@www.heilige-geist-gemeinde.de
SUMMARY:7 Wochen auf dem Weg
DESCRIPTION:Die Bibel lesen\, meditieren\, beten und verweilen \nmit Friederike Körner und Tanja Strebelow \nim kleinen Gemeindesaal.
URL:https://www.heilige-geist-gemeinde.de/veranstaltung/7-wochen-auf-dem-weg/2025-04-09/
LOCATION:Heilige-Geist-Gemeindehaus\, Perleberger Str. 36\, Berlin\, 10559\, Deutschland
CATEGORIES:Community,Erwachsene,Jugend,Senioren
ATTACH;FMTTYPE=image/png:https://www.heilige-geist-gemeinde.de/wp-content/uploads/2025/03/7-Wochen-auf-dem-Weg.png
END:VEVENT
BEGIN:VEVENT
DTSTART;TZID=Europe/Berlin:20250402T190000
DTEND;TZID=Europe/Berlin:20250402T203000
DTSTAMP:20260421T111435
CREATED:20250310T203923Z
LAST-MODIFIED:20250310T205818Z
UID:10000700-1743620400-1743625800@www.heilige-geist-gemeinde.de
SUMMARY:7 Wochen auf dem Weg
DESCRIPTION:Die Bibel lesen\, meditieren\, beten und verweilen \nmit Friederike Körner und Tanja Strebelow \nim kleinen Gemeindesaal.
URL:https://www.heilige-geist-gemeinde.de/veranstaltung/7-wochen-auf-dem-weg/2025-04-02/
LOCATION:Heilige-Geist-Gemeindehaus\, Perleberger Str. 36\, Berlin\, 10559\, Deutschland
CATEGORIES:Community,Erwachsene,Jugend,Senioren
ATTACH;FMTTYPE=image/png:https://www.heilige-geist-gemeinde.de/wp-content/uploads/2025/03/7-Wochen-auf-dem-Weg.png
END:VEVENT
BEGIN:VEVENT
DTSTART;TZID=Europe/Berlin:20250326T190000
DTEND;TZID=Europe/Berlin:20250326T203000
DTSTAMP:20260421T111435
CREATED:20250310T203923Z
LAST-MODIFIED:20250310T205818Z
UID:10000699-1743015600-1743021000@www.heilige-geist-gemeinde.de
SUMMARY:7 Wochen auf dem Weg
DESCRIPTION:Die Bibel lesen\, meditieren\, beten und verweilen \nmit Friederike Körner und Tanja Strebelow \nim kleinen Gemeindesaal.
URL:https://www.heilige-geist-gemeinde.de/veranstaltung/7-wochen-auf-dem-weg/2025-03-26/
LOCATION:Heilige-Geist-Gemeindehaus\, Perleberger Str. 36\, Berlin\, 10559\, Deutschland
CATEGORIES:Community,Erwachsene,Jugend,Senioren
ATTACH;FMTTYPE=image/png:https://www.heilige-geist-gemeinde.de/wp-content/uploads/2025/03/7-Wochen-auf-dem-Weg.png
END:VEVENT
BEGIN:VEVENT
DTSTART;TZID=Europe/Berlin:20250319T190000
DTEND;TZID=Europe/Berlin:20250319T203000
DTSTAMP:20260421T111435
CREATED:20250310T203923Z
LAST-MODIFIED:20250310T205818Z
UID:10000698-1742410800-1742416200@www.heilige-geist-gemeinde.de
SUMMARY:7 Wochen auf dem Weg
DESCRIPTION:Die Bibel lesen\, meditieren\, beten und verweilen \nmit Friederike Körner und Tanja Strebelow \nim kleinen Gemeindesaal.
URL:https://www.heilige-geist-gemeinde.de/veranstaltung/7-wochen-auf-dem-weg/2025-03-19/
LOCATION:Heilige-Geist-Gemeindehaus\, Perleberger Str. 36\, Berlin\, 10559\, Deutschland
CATEGORIES:Community,Erwachsene,Jugend,Senioren
ATTACH;FMTTYPE=image/png:https://www.heilige-geist-gemeinde.de/wp-content/uploads/2025/03/7-Wochen-auf-dem-Weg.png
END:VEVENT
BEGIN:VEVENT
DTSTART;TZID=Europe/Berlin:20250312T190000
DTEND;TZID=Europe/Berlin:20250312T203000
DTSTAMP:20260421T111435
CREATED:20250310T203923Z
LAST-MODIFIED:20250310T205818Z
UID:10000697-1741806000-1741811400@www.heilige-geist-gemeinde.de
SUMMARY:7 Wochen auf dem Weg
DESCRIPTION:Die Bibel lesen\, meditieren\, beten und verweilen \nmit Friederike Körner und Tanja Strebelow \nim kleinen Gemeindesaal.
URL:https://www.heilige-geist-gemeinde.de/veranstaltung/7-wochen-auf-dem-weg/2025-03-12/
LOCATION:Heilige-Geist-Gemeindehaus\, Perleberger Str. 36\, Berlin\, 10559\, Deutschland
CATEGORIES:Community,Erwachsene,Jugend,Senioren
ATTACH;FMTTYPE=image/png:https://www.heilige-geist-gemeinde.de/wp-content/uploads/2025/03/7-Wochen-auf-dem-Weg.png
END:VEVENT
BEGIN:VEVENT
DTSTART;TZID=Europe/Berlin:20241207T100000
DTEND;TZID=Europe/Berlin:20241207T160000
DTSTAMP:20260421T111435
CREATED:20241128T165913Z
LAST-MODIFIED:20241128T165913Z
UID:10000670-1733565600-1733587200@www.heilige-geist-gemeinde.de
SUMMARY:KU + ein Glaubenskurs für junge Menschen
DESCRIPTION:Ein Konfirmandenkurs der besonderen Art. Verantwortet vom Refo-Konvent und der Heilige-Geist-Gemeinde \nDiakonin T. Strebelow & A. Rauhut
URL:https://www.heilige-geist-gemeinde.de/veranstaltung/ku-ein-glaubenskurs-fuer-junge-menschen/
LOCATION:Heilige-Geist-Gemeindehaus\, Perleberger Str. 36\, Berlin\, 10559\, Deutschland
CATEGORIES:Jugend,Konfirmanden
ATTACH;FMTTYPE=image/jpeg:https://www.heilige-geist-gemeinde.de/wp-content/uploads/2020/11/Teamer-rotated.jpg
END:VEVENT
BEGIN:VEVENT
DTSTART;TZID=Europe/Berlin:20241012T100000
DTEND;TZID=Europe/Berlin:20241012T230000
DTSTAMP:20260421T111435
CREATED:20241002T094223Z
LAST-MODIFIED:20241002T094223Z
UID:10000464-1728727200-1728774000@www.heilige-geist-gemeinde.de
SUMMARY:Konfi+ Glaubenskurs für junge Menschen
DESCRIPTION:Anne Rauhut und Tanja Strebelow \nAn diesem Samstag findet außerdem eine Kirchenübernachtung statt.
URL:https://www.heilige-geist-gemeinde.de/veranstaltung/konfi-glaubenskurs-fuer-junge-menschen/
LOCATION:Heilige-Geist-Gemeindehaus\, Perleberger Str. 36\, Berlin\, 10559\, Deutschland
CATEGORIES:Konfirmanden
ATTACH;FMTTYPE=image/jpeg:https://www.heilige-geist-gemeinde.de/wp-content/uploads/2020/11/Teamer-rotated.jpg
END:VEVENT
BEGIN:VEVENT
DTSTART;TZID=Europe/Berlin:20230305T100000
DTEND;TZID=Europe/Berlin:20230305T110000
DTSTAMP:20260421T111435
CREATED:20230216T155515Z
LAST-MODIFIED:20231025T202310Z
UID:10000050-1678010400-1678014000@www.heilige-geist-gemeinde.de
SUMMARY:Reminszere - Gottesdienst mit Kindergottesdienst
DESCRIPTION:Pfrn. Rebiger
URL:https://www.heilige-geist-gemeinde.de/veranstaltung/reminszere-gottesdienst-mit-kindergottesdienst/
LOCATION:Heilige-Geist-Gemeindehaus\, Perleberger Str. 36\, Berlin\, 10559\, Deutschland
CATEGORIES:Community,Erwachsene,Gottesdienst,Jugend,Kinder,Konfirmanden,Senioren
ATTACH;FMTTYPE=image/jpeg:https://www.heilige-geist-gemeinde.de/wp-content/uploads/2021/04/20201107_212050-scaled.jpg
END:VEVENT
END:VCALENDAR